BEGIN:VCALENDAR
VERSION:2.0
CALSCALE:GREGORIAN
PRODID:adamgibbons/ics
METHOD:PUBLISH
X-PUBLISHED-TTL:PT1H
BEGIN:VEVENT
UID:136@enredad.es
SUMMARY:Circuito Andaluz de Jóvenes Flamencos: II Fase Selección
DTSTAMP:20260424T202224Z
DTSTART:20260424T183000Z
DESCRIPTION:✅II FASE SELECCIÓN CIRCUITO ANDALUZ DE JÓVENES FLAMENCOS\n\nLos
	 jóvenes de la provincia de #Almería que han pasado a la II Fase del Circu
	ito\nAndaluz de Jóvenes Flamencos actuarán el viernes 24 de abril en la Pe
	ña Flamenca\n'el Ciego de la Playa' de #Huércal a las 20:30 horas en las m
	odalidades de\ncante\, baile\, toque y otros instrumentos.\n\nEsta Fase co
	ncluirá con la elección de un máximo de 16 propuestas artísticas.\n\nLa en
	trada al acto es gratuita hasta completar aforo.\n\n@culturacuenta @cultur
	aand @almeriajunta @aytohuercaldealmeria @flamencoradio_
URL:https://enredad.es/event/circuito-andaluz-de-jovenes-flamencos-ii-fase-
	seleccion
GEO:36.8799354;-2.4383514
LOCATION:Peña Flamenca 'el Ciego de la Playa' (Huércal de Almería) - Calle 
	Cervantes\, 2\, 04230 Huércal de Almería
STATUS:CONFIRMED
CATEGORIES:almería,huércal de almería,flamenco
X-ALT-DESC;FMTTYPE=text/html:<p>✅II FASE SELECCIÓN CIRCUITO ANDALUZ DE JÓVE
	NES FLAMENCOS</p><p>Los jóvenes de la provincia de #Almería que han pasado
	 a la II Fase del Circuito Andaluz de Jóvenes Flamencos actuarán el vierne
	s 24 de abril en la Peña Flamenca 'el Ciego de la Playa' de #Huércal a las
	 20:30 horas en las modalidades de cante, baile, toque y otros instrumento
	s.</p><p>Esta Fase concluirá con la elección de un máximo de 16 propuestas
	 artísticas.</p><p>La entrada al acto es gratuita hasta completar aforo.</
	p><p>@culturacuenta @culturaand @almeriajunta @aytohuercaldealmeria @flame
	ncoradio_</p>
BEGIN:VALARM
ACTION:DISPLAY
DESCRIPTION:Circuito Andaluz de Jóvenes Flamencos: II Fase Selección
TRIGGER:-PT1H
END:VALARM
END:VEVENT
END:VCALENDAR
