BEGIN:VCALENDAR
VERSION:2.0
CALSCALE:GREGORIAN
PRODID:adamgibbons/ics
METHOD:PUBLISH
X-PUBLISHED-TTL:PT1H
BEGIN:VEVENT
UID:135@enredad.es
SUMMARY:Concentración por Palestina
DTSTAMP:20260424T214734Z
DTSTART:20260425T110000Z
DESCRIPTION:HAY QUE PARAR LA GUERRA en Oriente Medio.\n\nNo olvidemos Pales
	tina\n\nLugar: Plaza del Cid\n\nSábado 25 de abril 13h\n\nConvoca: Ciudada
	nia en Pie de Paz
URL:https://enredad.es/event/concentracion-por-palestina
GEO:42.3406336;-3.6997618
LOCATION:Plaza del Cid - Plaza Mío Cid\, 09093 Burgos
STATUS:CONFIRMED
CATEGORIES:concentración,palestina,Burgos
X-ALT-DESC;FMTTYPE=text/html:<p>HAY QUE PARAR LA GUERRA en Oriente Medio.</
	p><p>No olvidemos Palestina</p><p>Lugar: Plaza del Cid</p><p>Sábado 25 de 
	abril 13h</p><p>Convoca: Ciudadania en Pie de Paz</p>
BEGIN:VALARM
ACTION:DISPLAY
DESCRIPTION:Concentración por Palestina
TRIGGER:-PT1H
END:VALARM
END:VEVENT
END:VCALENDAR
