BEGIN:VCALENDAR
VERSION:2.0
CALSCALE:GREGORIAN
PRODID:adamgibbons/ics
METHOD:PUBLISH
X-PUBLISHED-TTL:PT1H
BEGIN:VEVENT
UID:137@enredad.es
SUMMARY:Jornada Solidaria x Palestina
DTSTAMP:20260424T200701Z
DTSTART:20260425T100000Z
DTEND:20260425T180000Z
DESCRIPTION:Jornada Solidaria por Palestina.\n\nSi formas parte de algún co
	lectivo\, grupo o eres artista y quisieras participar\,\nponte en contacto
	 con nosotros y vemos la manera de hacer algo juntxs. Nos vemos\npronto.Y 
	viva palestina libre!🤍🇵🇸
URL:https://enredad.es/event/jornada-solidaria-x-palestina
GEO:36.7203878;-4.4350844
LOCATION:La Biznaga Verdiblanca - Calle Honduras\, 6\, 29007 Málaga
STATUS:CONFIRMED
CATEGORIES:malaga,jornadas,palestina
X-ALT-DESC;FMTTYPE=text/html:<p>Jornada Solidaria por Palestina.</p><p>Si f
	ormas parte de algún colectivo, grupo o eres artista y quisieras participa
	r, ponte en contacto con nosotros y vemos la manera de hacer algo juntxs. 
	Nos vemos pronto.Y viva palestina libre!🤍🇵🇸</p>
BEGIN:VALARM
ACTION:DISPLAY
DESCRIPTION:Jornada Solidaria x Palestina
TRIGGER:-PT1H
END:VALARM
END:VEVENT
END:VCALENDAR
