BEGIN:VCALENDAR
VERSION:2.0
CALSCALE:GREGORIAN
PRODID:adamgibbons/ics
METHOD:PUBLISH
X-PUBLISHED-TTL:PT1H
BEGIN:VEVENT
UID:126@enredad.es
SUMMARY:Lesbípolis
DTSTAMP:20260421T181708Z
DTSTART:20260424T160000Z
DTEND:20260426T120000Z
DESCRIPTION:Organizado por café con bollos [https://www.instagram.com/cafe_
	con_bollos/]\, la\nprogramación de Lesbípolis [https://www.instagram.com/l
	esbipolis/]incluye:\n\n * Sesión colectiva de Café con Bollos: encuentro c
	omunitario como base política\n   y afectiva del festival.\n\n * I Ruta to
	rtillera de Teruel: vermú descentralizado en bares aliados que\n   ofrecer
	án su propia versión de la tortilla de patatas.\n\n * Manifestación con La
	 Batucada que entiende + lectura de manifiesto: acto\n   central de visibi
	lidad y ocupación del espacio público.\n\n * Conciertos: Actuaciones music
	ales con presencia de talento local y del\n   colectivo LGTBIQ+\n\n * La t
	ejereta\, encuentro de territorios: conversación entre colectivos queer y\
	n   experiencias de distintos lugares\, reforzando la red cultural y comun
	itaria\n   estatal.\n\n * Monólogo: Humor político e ironía para pensar lo
	 lesbiano desde la risa y la\n   complicidad\n\n * Cierre del festival: Ev
	aluación informal\, despedida y proyección de\n   continuidad.
URL:https://enredad.es/event/lesbipolis
GEO:40.6005259;-0.9229282
LOCATION:Teruel - Teruel
STATUS:CONFIRMED
CATEGORIES:teruel,festival,LBT
X-ALT-DESC;FMTTYPE=text/html:<p>Organizado por <a href="https://www.instagr
	am.com/cafe_con_bollos/" target="_blank">café con bollos</a>, la programac
	ión de <a href="https://www.instagram.com/lesbipolis/" target="_blank">Les
	bípolis </a>incluye:</p><ul><li><p>Sesión colectiva de Café con Bollos: en
	cuentro comunitario como base política y afectiva del festival.</p></li><l
	i><p>I Ruta tortillera de Teruel: vermú descentralizado en bares aliados q
	ue ofrecerán su propia versión de la tortilla de patatas.</p></li><li><p>M
	anifestación con La Batucada que entiende + lectura de manifiesto: acto ce
	ntral de visibilidad y ocupación del espacio público.</p></li><li><p>Conci
	ertos: Actuaciones musicales con presencia de talento local y del colectiv
	o LGTBIQ+</p></li><li><p>La tejereta, encuentro de territorios: conversaci
	ón entre colectivos queer y experiencias de distintos lugares, reforzando 
	la red cultural y comunitaria estatal.</p></li><li><p>Monólogo: Humor polí
	tico e ironía para pensar lo lesbiano desde la risa y la complicidad</p></
	li><li><p>Cierre del festival: Evaluación informal, despedida y proyección
	 de continuidad.</p></li></ul>
BEGIN:VALARM
ACTION:DISPLAY
DESCRIPTION:Lesbípolis
TRIGGER:-PT1H
END:VALARM
END:VEVENT
END:VCALENDAR
