BEGIN:VCALENDAR
VERSION:2.0
CALSCALE:GREGORIAN
PRODID:adamgibbons/ics
METHOD:PUBLISH
X-PUBLISHED-TTL:PT1H
BEGIN:VEVENT
UID:116@enredad.es
SUMMARY:Presentación del libro «Puta Feminista»
DTSTAMP:20260420T035935Z
DTSTART:20260418T150000Z
DESCRIPTION:Con mucha ilusión les contamos que el 18 de abril llega a Forme
	ntera Georgina\nOrellano a presentar su libro "Puta feminista\, historia d
	e una trabajadora\nsexual".\n\n18 de abril - 17hs · El Gabrielet\n\nLxs es
	peramos para escucharnos\, debatir y pensarnos en colectivo 🖤
URL:https://enredad.es/event/presentacion-del-libro-puta-feminista
LOCATION:Centre Antonitur "Gabrielet" - Av. de Portossaler 13\, Sant France
	sc de Formentera
STATUS:CONFIRMED
CATEGORIES:Trabajo sexual,FIGA Formentera,Gabrielet
X-ALT-DESC;FMTTYPE=text/html:<p>Con mucha ilusión les contamos que el 18 de
	 abril llega a Formentera Georgina Orellano a presentar su libro "Puta fem
	inista, historia de una trabajadora sexual".</p><p>18 de abril - 17hs · El
	 Gabrielet</p><p>Lxs esperamos para escucharnos, debatir y pensarnos en co
	lectivo 🖤</p>
BEGIN:VALARM
ACTION:DISPLAY
DESCRIPTION:Presentación del libro «Puta Feminista»
TRIGGER:-PT1H
END:VALARM
END:VEVENT
END:VCALENDAR
