BEGIN:VCALENDAR
VERSION:2.0
CALSCALE:GREGORIAN
PRODID:adamgibbons/ics
METHOD:PUBLISH
X-PUBLISHED-TTL:PT1H
BEGIN:VEVENT
UID:128@enredad.es
SUMMARY:Presentación: Gloria - Pánicos y Euforias de una Creación
DTSTAMP:20260422T010201Z
DTSTART:20260421T170000Z
DESCRIPTION:Queridas vecinas\, el próximo 21 de abril presentamos “Gloria” 
	la obra de teatro\nescrita por Elisa Coll y publicada por nuestras querida
	s @contintametienes\n\nLa escritora y creadora multidisciplinar Elisa Coll
	 escribe y encarna la pieza\nteatral de formato híbrido Gloria\, en la que
	 una nieta vuelve al salón de su\ndifunta abuela ultracatólica para confro
	ntar fantasmas y miedos de los que nunca\nse habla: a quedarse atrás\, al 
	fracaso\, a la muerte.\n\nConversarán con la autora Irene Blanco y Nüll Ga
	rcía.\n\n¡Os esperamos! 💓\nEntrada libre hasta completar aforo.\n\n📅 Marte
	s 21 de abril a las 19h\n📍Calle Embajadores\, 166\n\n#elisacoll #teatro #c
	ontintametienes #eventosliterarios #eventosmadrid
URL:https://enredad.es/event/presentacion-gloria-panicos-y-euforias-de-una-
	creacion
GEO:40.3959413;-3.6961506
LOCATION:La Anónima (Madrid) - Calle de Embajadores\, 166\, 28045 Madrid
STATUS:CONFIRMED
CATEGORIES:madrid,Literatura,teatro,elisacoll,presentación
X-ALT-DESC;FMTTYPE=text/html:<p>Queridas vecinas, el próximo 21 de abril pr
	esentamos “Gloria” la obra de teatro escrita por Elisa Coll y publicada po
	r nuestras queridas @contintametienes </p><p>La escritora y creadora multi
	disciplinar Elisa Coll escribe y encarna la pieza teatral de formato híbri
	do Gloria, en la que una nieta vuelve al salón de su difunta abuela ultrac
	atólica para confrontar fantasmas y miedos de los que nunca se habla: a qu
	edarse atrás, al fracaso, a la muerte.</p><p>Conversarán con la autora Ire
	ne Blanco y Nüll García.</p><p>¡Os esperamos! 💓<br>Entrada libre hasta com
	pletar aforo.</p><p>📅 Martes 21 de abril a las 19h<br>📍Calle Embajadores, 
	166</p><p>#elisacoll #teatro #contintametienes #eventosliterarios #eventos
	madrid</p>
BEGIN:VALARM
ACTION:DISPLAY
DESCRIPTION:Presentación: Gloria - Pánicos y Euforias de una Creación
TRIGGER:-PT1H
END:VALARM
END:VEVENT
END:VCALENDAR
