BEGIN:VCALENDAR
VERSION:2.0
CALSCALE:GREGORIAN
PRODID:adamgibbons/ics
METHOD:PUBLISH
X-PUBLISHED-TTL:PT1H
BEGIN:VEVENT
UID:138@enredad.es
SUMMARY:Torneo de ajedrez "Por la paz en Palestina"
DTSTAMP:20260425T031759Z
DTSTART:20260426T140000Z
DTEND:20260426T160000Z
DESCRIPTION:Torneo solidario de ajedrez "Por la paz en Palestina"\n\nMerien
	da y diploma para todos los participantes\n\nPremios para l@s primer@s cla
	sificad@s\n\nActividad gratuita\n\nInscripciones y bases del torneo en:\n\
	nhttps://casapalestina.es/ajedrez [https://casapalestina.Es/ajedrez]\n\nCa
	sa palestina de aragón
URL:https://enredad.es/event/torneo-de-ajedrez-por-la-paz-en-palestina
GEO:41.648396;-0.8971897
LOCATION:Casa Palestina de Aragón - C/Tarragona 27\, 50005 Zaragoza
STATUS:CONFIRMED
CATEGORIES:zaragoza,palestina,Ajedrez
X-ALT-DESC;FMTTYPE=text/html:<p>Torneo solidario de ajedrez "Por la paz en 
	Palestina"</p><p>Merienda y diploma para todos los participantes</p><p>Pre
	mios para l@s primer@s clasificad@s</p><p>Actividad gratuita</p><p>Inscrip
	ciones y bases del torneo en:</p><p><a href="https://casapalestina.Es/ajed
	rez" target="_blank">https://casapalestina.es/ajedrez</a> </p><p>Casa pale
	stina de aragón</p>
BEGIN:VALARM
ACTION:DISPLAY
DESCRIPTION:Torneo de ajedrez "Por la paz en Palestina"
TRIGGER:-PT1H
END:VALARM
END:VEVENT
END:VCALENDAR
