BEGIN:VCALENDAR
VERSION:2.0
CALSCALE:GREGORIAN
PRODID:adamgibbons/ics
METHOD:PUBLISH
X-PUBLISHED-TTL:PT1H
BEGIN:VEVENT
UID:115@enredad.es
SUMMARY:Presentación del Documento Técnico de Conclusiones del Chemsex Supp
	ort Hub Barcelona 2025
DTSTAMP:20260424T104302Z
DTSTART:20260424T090000Z
DTEND:20260424T110000Z
URL:https://enredad.es/event/presentacion-del-documento-tecnico-de-conclusi
	ones-del-chemsex-support-hub-barcelona-2025
LOCATION:Ministerio de Sanidad - Paseo del Prado 18–20\, Madrid
STATUS:CONFIRMED
CATEGORIES:ONG Stop,chemsex,madrid
END:VEVENT
END:VCALENDAR
