BEGIN:VCALENDAR
VERSION:2.0
CALSCALE:GREGORIAN
PRODID:adamgibbons/ics
METHOD:PUBLISH
X-PUBLISHED-TTL:PT1H
BEGIN:VEVENT
UID:83@enredad.es
SUMMARY:ROL LITERARIO - MAYO 2026 - El amor es un monstruo de Dios\, Lucian
	a de Luca
DTSTAMP:20260424T215158Z
DTSTART:20260528T190000Z
DTEND:20260528T203000Z
URL:https://enredad.es/event/clubes-de-lectura-mayo-2026-el-amor-es-un-mons
	truo-de-dios-luciana-de-luca-1
GEO:41.4035397;2.1555135
LOCATION:La Repunantinha - Carrer del Torrent de l'Olla\, 143\, local 2\, 0
	8012\, Barcelona
STATUS:CONFIRMED
CATEGORIES:Juego,Literatura,RPG,barcelona,club,lectura,libros,llibreria,lli
	bres,reunión,rol
END:VEVENT
END:VCALENDAR
