BEGIN:VCALENDAR
VERSION:2.0
CALSCALE:GREGORIAN
PRODID:adamgibbons/ics
METHOD:PUBLISH
X-PUBLISHED-TTL:PT1H
BEGIN:VEVENT
UID:117@enredad.es
SUMMARY:Charla online sobre trabajo sexual para estudiantes e investigadora
	s
DTSTAMP:20260420T060456Z
DTSTART:20260428T140000Z
URL:https://enredad.es/event/charla-online-sobre-trabajo-sexual-para-estudi
	antes-e-investigadoras
LOCATION:online - https://p.berrly.com/OTRAS/events/18820
STATUS:CONFIRMED
CATEGORIES:Sindicato OTRAS,Trabajo sexual,charla,online
END:VEVENT
END:VCALENDAR
