BEGIN:VCALENDAR
VERSION:2.0
CALSCALE:GREGORIAN
PRODID:adamgibbons/ics
METHOD:PUBLISH
X-PUBLISHED-TTL:PT1H
BEGIN:VEVENT
UID:132@enredad.es
SUMMARY:¿Y si soy más machi de lo que pienso?
DTSTAMP:20260424T232726Z
DTSTART:20260425T090000Z
DTEND:20260425T110000Z
URL:https://enredad.es/event/y-si-soy-mas-machi-de-lo-que-pienso
GEO:40.4107691;-3.7001204
LOCATION:CSA Tres Peces Tres - Calle Tres Peces\, 3\, 28012 Madrid
STATUS:CONFIRMED
CATEGORIES:feminismo,hombres,madrid,taller
END:VEVENT
END:VCALENDAR
